BEGIN:VCALENDAR
VERSION:2.0
PRODID:-//7x24 Exchange - Atlanta Chapter - ECPv6.15.20//NONSGML v1.0//EN
CALSCALE:GREGORIAN
METHOD:PUBLISH
X-WR-CALNAME:7x24 Exchange - Atlanta Chapter
X-ORIGINAL-URL:https://7x24exchangeatlanta.org
X-WR-CALDESC:Events for 7x24 Exchange - Atlanta Chapter
REFRESH-INTERVAL;VALUE=DURATION:PT1H
X-Robots-Tag:noindex
X-PUBLISHED-TTL:PT1H
BEGIN:VTIMEZONE
TZID:UTC
BEGIN:STANDARD
TZOFFSETFROM:+0000
TZOFFSETTO:+0000
TZNAME:UTC
DTSTART:20230101T000000
END:STANDARD
END:VTIMEZONE
BEGIN:VEVENT
DTSTART;TZID=UTC:20250718T090000
DTEND;TZID=UTC:20250718T120000
DTSTAMP:20260419T121342
CREATED:20250621T035930Z
LAST-MODIFIED:20250623T164656Z
UID:10000025-1752829200-1752840000@7x24exchangeatlanta.org
SUMMARY:WiMCO Golf Clinic (July 2025)
DESCRIPTION:7×24 EXCHANGE ATLANTA – WiMCO \nGOLF CLINIC & NETWORKING EVENT\n 
URL:https://7x24exchangeatlanta.org/event/golf-clinic/
LOCATION:River Pines Golf\, 4775 Old Alabama Rd\, Johns Creek\, GA\, GA\, 30022\, United States
ATTACH;FMTTYPE=image/jpeg:https://7x24exchangeatlanta.org/wp-content/uploads/2025/06/Green-White-Rounded-Bold-Golf-Tournament-Poster.jpg
END:VEVENT
BEGIN:VEVENT
DTSTART;TZID=UTC:20250502T090000
DTEND;TZID=UTC:20250502T120000
DTSTAMP:20260419T121342
CREATED:20250411T103436Z
LAST-MODIFIED:20250416T034036Z
UID:10000024-1746176400-1746187200@7x24exchangeatlanta.org
SUMMARY:Wimco golf social
DESCRIPTION:7X24 EXCHANGE ATLANTA WiMCO GOLF CLINIC AND NETWORKING EVENT
URL:https://7x24exchangeatlanta.org/event/wimco-golf-social/
LOCATION:River Pines Golf\, 4775 Old Alabama Rd\, Johns Creek\, GA\, GA\, 30022\, United States
ATTACH;FMTTYPE=image/jpeg:https://7x24exchangeatlanta.org/wp-content/uploads/2025/04/wimco.jpg
END:VEVENT
BEGIN:VEVENT
DTSTART;TZID=UTC:20240726T090000
DTEND;TZID=UTC:20240726T120000
DTSTAMP:20260419T121342
CREATED:20240620T040152Z
LAST-MODIFIED:20250623T165349Z
UID:10000019-1721984400-1721995200@7x24exchangeatlanta.org
SUMMARY:WiMCO Golf Clinic (07/2024)
DESCRIPTION:
URL:https://7x24exchangeatlanta.org/event/wimco-golf-clinic/
LOCATION:River Pines Golf\, 4775 Old Alabama Rd\, Johns Creek\, GA\, GA\, 30022\, United States
ATTACH;FMTTYPE=image/webp:https://7x24exchangeatlanta.org/wp-content/uploads/2024/06/pic-1-6921.webp
END:VEVENT
BEGIN:VEVENT
DTSTART;TZID=UTC:20240503T100000
DTEND;TZID=UTC:20240503T140000
DTSTAMP:20260419T121342
CREATED:20240401T174425Z
LAST-MODIFIED:20250623T165233Z
UID:10000015-1714730400-1714744800@7x24exchangeatlanta.org
SUMMARY:WiMCO Golf Clinic & Networking Event (05/2024)
DESCRIPTION:Come join WiMCO for their inaugural networking Golf Clinic at River Pines Golf!\nFriday May 3rd\, 11AM – 2PM with Check-In at 1030AM\nFood and beverages included in your ticket price!\nGrand Prize – for a Hole in One at the end of the day\, is a full set of ladies’ golf clubs\, someone is guaranteed to win!
URL:https://7x24exchangeatlanta.org/event/wimco-golf-clinic-networking-event/
LOCATION:River Pines Golf\, 4775 Old Alabama Rd\, Johns Creek\, GA\, GA\, 30022\, United States
END:VEVENT
END:VCALENDAR